View In:
ArcGIS JavaScript
ArcGIS Online Map Viewer
ArcGIS Earth
Service Description: FloodVIIRS/VIIRS20250909PAK
Name: FloodVIIRS/VIIRS20250909PAK
Description:
Single Fused Map Cache: false
Extent:
XMin: 6776895.596058329
YMin: 2716191.678345289
XMax: 8664495.596058328
YMax: 4451691.678345288
Spatial Reference: 102100
(3857)
LatestVCSWkid(0)
Initial Extent:
XMin: 6776895.596058329
YMin: 2716191.678345289
XMax: 8664495.596058328
YMax: 4451691.678345288
Spatial Reference: 102100
(3857)
LatestVCSWkid(0)
Full Extent:
XMin: 6776895.596058329
YMin: 2716191.678345289
XMax: 8664495.596058328
YMax: 4451691.678345288
Spatial Reference: 102100
(3857)
LatestVCSWkid(0)
Pixel Size X: 99.99999999999996
Pixel Size Y: 99.99999999999994
Band Count: 1
Pixel Type: U2
RasterFunction Infos: {"rasterFunctionInfos": [
{
"name": "None",
"description": "Make a Raster or Raster Dataset into a Function Raster Dataset.",
"help": ""
},
{
"name": "VIIRS",
"description": "A raster function template.",
"help": ""
}
]}
Mensuration Capabilities:
Inspection Capabilities:
Has Histograms: true
Has Colormap: false
Has Multi Dimensions : true
Rendering Rule:
Min Scale: 0
Max Scale: 0
Copyright Text:
Service Data Type: esriImageServiceDataTypeGeneric
Min Values: 0
Max Values: 1
Mean Values: 1
Standard Deviation Values: 0
Object ID Field: OBJECTID
Fields:
-
OBJECTID
(
type: esriFieldTypeOID, alias: OBJECTID
)
-
Shape
(
type: esriFieldTypeGeometry, alias: Shape
)
-
Name
(
type: esriFieldTypeString, alias: Name, length: 200
)
-
MinPS
(
type: esriFieldTypeDouble, alias: MinPS
)
-
MaxPS
(
type: esriFieldTypeDouble, alias: MaxPS
)
-
LowPS
(
type: esriFieldTypeDouble, alias: LowPS
)
-
HighPS
(
type: esriFieldTypeDouble, alias: HighPS
)
-
Category
(
type: esriFieldTypeInteger, alias: Category
, Coded Values:
[0: Unknown]
, [1: Primary]
, [2: Overview]
, ...6 more...
)
-
Tag
(
type: esriFieldTypeString, alias: Tag, length: 100
)
-
GroupName
(
type: esriFieldTypeString, alias: GroupName, length: 100
)
-
ProductName
(
type: esriFieldTypeString, alias: ProductName, length: 100
)
-
CenterX
(
type: esriFieldTypeDouble, alias: CenterX
)
-
CenterY
(
type: esriFieldTypeDouble, alias: CenterY
)
-
ZOrder
(
type: esriFieldTypeInteger, alias: ZOrder
)
-
Shape_Length
(
type: esriFieldTypeDouble, alias: Shape_Length
)
-
Shape_Area
(
type: esriFieldTypeDouble, alias: Shape_Area
)
-
StdTime
(
type: esriFieldTypeDate, alias: Standard Time, length: 8
)
-
Dimensions
(
type: esriFieldTypeString, alias: Dimensions, length: 50
)
-
Variable
(
type: esriFieldTypeString, alias: Variable, length: 50
)
Default Mosaic Method: ByAttribute
Allowed Mosaic Methods: ByAttribute,NorthWest,Center,LockRaster,Nadir,Viewpoint,Seamline,None
SortField: StdTime
SortValue: 0
Mosaic Operator: Max
Default Compression Quality: 75
Default Resampling Method: Bilinear
Max Record Count: 1000
Max Image Height: 4100
Max Image Width: 15000
Max Download Image Count: 20
Max Mosaic Image Count: 1000
Allow Raster Function: true
Allow Copy: true
Allow Analysis: true
Allow Compute TiePoints: false
Supports Statistics: true
Supports Advanced Queries: true
Use StandardizedQueries: true
Raster Type Infos:
Name: Raster Dataset
Description: Supports all ArcGIS Raster Datasets
Help:
Has Raster Attribute Table: false
Edit Fields Info: null
Ownership Based AccessControl For Rasters: null
Child Resources:
Info
Histograms
Statistics
Key Properties
Legend
Raster Function Infos
Multidimensional Info
Slices
Supported Operations:
Export Image
Query
Identify
Measure
Compute Histograms
Compute Statistics Histograms
Get Samples
Compute Class Statistics
Query GPS Info
Find Images
Image to Map
Map to Image
Measure from Image
Image to Map Multiray
Query Boundary
Compute Pixel Location
Compute Angles
Validate
Project